BEGIN:VCALENDAR
VERSION:2.0
PRODID:-//Virtus Agency - Knights Insurance - ECPv6.15.20//NONSGML v1.0//EN
CALSCALE:GREGORIAN
METHOD:PUBLISH
X-WR-CALNAME:Virtus Agency - Knights Insurance
X-ORIGINAL-URL:https://knightsinsurance.org
X-WR-CALDESC:Events for Virtus Agency - Knights Insurance
REFRESH-INTERVAL;VALUE=DURATION:PT1H
X-Robots-Tag:noindex
X-PUBLISHED-TTL:PT1H
BEGIN:VTIMEZONE
TZID:America/New_York
BEGIN:DAYLIGHT
TZOFFSETFROM:-0500
TZOFFSETTO:-0400
TZNAME:EDT
DTSTART:20250309T070000
END:DAYLIGHT
BEGIN:STANDARD
TZOFFSETFROM:-0400
TZOFFSETTO:-0500
TZNAME:EST
DTSTART:20251102T060000
END:STANDARD
BEGIN:DAYLIGHT
TZOFFSETFROM:-0500
TZOFFSETTO:-0400
TZNAME:EDT
DTSTART:20260308T070000
END:DAYLIGHT
BEGIN:STANDARD
TZOFFSETFROM:-0400
TZOFFSETTO:-0500
TZNAME:EST
DTSTART:20261101T060000
END:STANDARD
BEGIN:DAYLIGHT
TZOFFSETFROM:-0500
TZOFFSETTO:-0400
TZNAME:EDT
DTSTART:20270314T070000
END:DAYLIGHT
BEGIN:STANDARD
TZOFFSETFROM:-0400
TZOFFSETTO:-0500
TZNAME:EST
DTSTART:20271107T060000
END:STANDARD
END:VTIMEZONE
BEGIN:VEVENT
DTSTART;TZID=America/New_York:20260423T180000
DTEND;TZID=America/New_York:20260423T180000
DTSTAMP:20260423T032107
CREATED:20260416T192000Z
LAST-MODIFIED:20260422T201101Z
UID:1104-1776967200-1776967200@knightsinsurance.org
SUMMARY:District 3 - Catholic Financial Seminar & Social
DESCRIPTION:Join us for a Catholic Financial social at Gino’s \n*Enjoy great fellowship and Italian food while learning more about how to approach financial planning with a Catholic approach! \nWhen: Thursday\, April 23\, 2026 at 6PM\nWhere: Gino’s Pizzeria – 1479 General Booth Blvd\, Virginia Beach\nHosted by: Knights of Columbus Insurance ∼ District 3 \nFood will be provided by Ray Roenker!  All are welcome! \nPlease Click Below to Register by Tuesday\, April 21st! \n  \nThis event is for informational purposes only and does not constitute financial\, tax\, or legal advice. No purchase is necessary to attend this event. A Knights of Columbus insurance agent may contact you following the event. Life insurance is offered through Knights of Columbus\, One Columbus Plaza\, New Haven\, CT 06510 1-800-380-9995. \n  \n©Knights of Columbus\, One Columbus Plaza\, New Haven\, CT 06510.
URL:https://knightsinsurance.org/event/dist-3-social
LOCATION:Gino’s Pizzeria\, 1479 General Booth Blvd\, Virginia Beach\, 23454\, United States
CATEGORIES:Events
END:VEVENT
END:VCALENDAR